BEGIN:VCALENDAR
VERSION:2.0
PRODID:-//Gymnastiekvereniging Olympia Harderwijk - ECPv6.15.18//NONSGML v1.0//EN
CALSCALE:GREGORIAN
METHOD:PUBLISH
X-WR-CALNAME:Gymnastiekvereniging Olympia Harderwijk
X-ORIGINAL-URL:https://olympiaharderwijk.nl
X-WR-CALDESC:Evenementen voor Gymnastiekvereniging Olympia Harderwijk
REFRESH-INTERVAL;VALUE=DURATION:PT1H
X-Robots-Tag:noindex
X-PUBLISHED-TTL:PT1H
BEGIN:VTIMEZONE
TZID:Europe/Amsterdam
BEGIN:DAYLIGHT
TZOFFSETFROM:+0100
TZOFFSETTO:+0200
TZNAME:CEST
DTSTART:20230326T010000
END:DAYLIGHT
BEGIN:STANDARD
TZOFFSETFROM:+0200
TZOFFSETTO:+0100
TZNAME:CET
DTSTART:20231029T010000
END:STANDARD
BEGIN:DAYLIGHT
TZOFFSETFROM:+0100
TZOFFSETTO:+0200
TZNAME:CEST
DTSTART:20240331T010000
END:DAYLIGHT
BEGIN:STANDARD
TZOFFSETFROM:+0200
TZOFFSETTO:+0100
TZNAME:CET
DTSTART:20241027T010000
END:STANDARD
BEGIN:DAYLIGHT
TZOFFSETFROM:+0100
TZOFFSETTO:+0200
TZNAME:CEST
DTSTART:20250330T010000
END:DAYLIGHT
BEGIN:STANDARD
TZOFFSETFROM:+0200
TZOFFSETTO:+0100
TZNAME:CET
DTSTART:20251026T010000
END:STANDARD
BEGIN:DAYLIGHT
TZOFFSETFROM:+0100
TZOFFSETTO:+0200
TZNAME:CEST
DTSTART:20260329T010000
END:DAYLIGHT
BEGIN:STANDARD
TZOFFSETFROM:+0200
TZOFFSETTO:+0100
TZNAME:CET
DTSTART:20261025T010000
END:STANDARD
END:VTIMEZONE
BEGIN:VEVENT
DTSTART;VALUE=DATE:20241223
DTEND;VALUE=DATE:20250106
DTSTAMP:20260423T005702
CREATED:20241017T115405Z
LAST-MODIFIED:20241017T115405Z
UID:4054-1734912000-1736121599@olympiaharderwijk.nl
SUMMARY:Kerstvakantie: geen les
DESCRIPTION:I.v.m. de kerstvakantie zijn er van 23 december t/m 5 januari geen lessen.
URL:https://olympiaharderwijk.nl/event/kerstvakantie-geen-les-2/
CATEGORIES:Geen les
END:VEVENT
BEGIN:VEVENT
DTSTART;VALUE=DATE:20250224
DTEND;VALUE=DATE:20250303
DTSTAMP:20260423T005702
CREATED:20241017T121528Z
LAST-MODIFIED:20250204T211801Z
UID:4070-1740355200-1740959999@olympiaharderwijk.nl
SUMMARY:Voorjaarsvakantie: geen les
DESCRIPTION:I.v.m. de voorjaarsvakantie is er van 24 februari t/m 2 maart geen les.
URL:https://olympiaharderwijk.nl/event/voorjaarsvakantie-geen-les-2/
CATEGORIES:Geen les
END:VEVENT
BEGIN:VEVENT
DTSTART;VALUE=DATE:20250421
DTEND;VALUE=DATE:20250506
DTSTAMP:20260423T005702
CREATED:20250204T213458Z
LAST-MODIFIED:20250204T213507Z
UID:4294-1745193600-1746489599@olympiaharderwijk.nl
SUMMARY:Meivakantie: geen les
DESCRIPTION:I.v.m. de meivakantie en bevrijdingsdag is er van 21 april t/m 5 mei geen les.
URL:https://olympiaharderwijk.nl/event/meivakantie-geen-les/
CATEGORIES:Geen les
END:VEVENT
BEGIN:VEVENT
DTSTART;VALUE=DATE:20250529
DTEND;VALUE=DATE:20250530
DTSTAMP:20260423T005702
CREATED:20250204T214041Z
LAST-MODIFIED:20250204T214041Z
UID:4299-1748476800-1748563199@olympiaharderwijk.nl
SUMMARY:Hemelvaartsdag: geen les
DESCRIPTION:
URL:https://olympiaharderwijk.nl/event/hemelvaartsdag-geen-les/
CATEGORIES:Geen les
END:VEVENT
BEGIN:VEVENT
DTSTART;VALUE=DATE:20250609
DTEND;VALUE=DATE:20250610
DTSTAMP:20260423T005702
CREATED:20250204T214130Z
LAST-MODIFIED:20250204T214130Z
UID:4301-1749427200-1749513599@olympiaharderwijk.nl
SUMMARY:Tweede pinksterdag: geen les
DESCRIPTION:
URL:https://olympiaharderwijk.nl/event/tweede-pinksterdag-geen-les/
CATEGORIES:Geen les
END:VEVENT
BEGIN:VEVENT
DTSTART;VALUE=DATE:20250707
DTEND;VALUE=DATE:20250908
DTSTAMP:20260423T005702
CREATED:20250204T213824Z
LAST-MODIFIED:20250204T213928Z
UID:4296-1751846400-1757289599@olympiaharderwijk.nl
SUMMARY:Zomervakantie: geen les
DESCRIPTION:De laatste lessen van dit seizoen zijn in de week van 30 juni. Vanaf 8 september zien we jullie heel graag weer in de zalen!
URL:https://olympiaharderwijk.nl/event/zomervakantie-geen-les-2/
CATEGORIES:Geen les
END:VEVENT
BEGIN:VEVENT
DTSTART;VALUE=DATE:20251020
DTEND;VALUE=DATE:20251027
DTSTAMP:20260423T005702
CREATED:20251003T173526Z
LAST-MODIFIED:20251003T173526Z
UID:4460-1760918400-1761523199@olympiaharderwijk.nl
SUMMARY:Herfstvakantie: geen les
DESCRIPTION:
URL:https://olympiaharderwijk.nl/event/herfstvakantie-geen-les-3/
CATEGORIES:Geen les
END:VEVENT
END:VCALENDAR