BEGIN:VCALENDAR
VERSION:2.0
PRODID:-//Gymnastiekvereniging Olympia Harderwijk - ECPv6.15.18//NONSGML v1.0//EN
CALSCALE:GREGORIAN
METHOD:PUBLISH
X-ORIGINAL-URL:https://olympiaharderwijk.nl
X-WR-CALDESC:Evenementen voor Gymnastiekvereniging Olympia Harderwijk
REFRESH-INTERVAL;VALUE=DURATION:PT1H
X-Robots-Tag:noindex
X-PUBLISHED-TTL:PT1H
BEGIN:VTIMEZONE
TZID:Europe/Amsterdam
BEGIN:DAYLIGHT
TZOFFSETFROM:+0100
TZOFFSETTO:+0200
TZNAME:CEST
DTSTART:20240331T010000
END:DAYLIGHT
BEGIN:STANDARD
TZOFFSETFROM:+0200
TZOFFSETTO:+0100
TZNAME:CET
DTSTART:20241027T010000
END:STANDARD
BEGIN:DAYLIGHT
TZOFFSETFROM:+0100
TZOFFSETTO:+0200
TZNAME:CEST
DTSTART:20250330T010000
END:DAYLIGHT
BEGIN:STANDARD
TZOFFSETFROM:+0200
TZOFFSETTO:+0100
TZNAME:CET
DTSTART:20251026T010000
END:STANDARD
BEGIN:DAYLIGHT
TZOFFSETFROM:+0100
TZOFFSETTO:+0200
TZNAME:CEST
DTSTART:20260329T010000
END:DAYLIGHT
BEGIN:STANDARD
TZOFFSETFROM:+0200
TZOFFSETTO:+0100
TZNAME:CET
DTSTART:20261025T010000
END:STANDARD
BEGIN:DAYLIGHT
TZOFFSETFROM:+0100
TZOFFSETTO:+0200
TZNAME:CEST
DTSTART:20270328T010000
END:DAYLIGHT
BEGIN:STANDARD
TZOFFSETFROM:+0200
TZOFFSETTO:+0100
TZNAME:CET
DTSTART:20271031T010000
END:STANDARD
END:VTIMEZONE
BEGIN:VEVENT
DTSTART;VALUE=DATE:20250419
DTEND;VALUE=DATE:20250420
DTSTAMP:20260423T003457
CREATED:20240701T135804Z
LAST-MODIFIED:20240701T140856Z
UID:3586-1745020800-1745107199@olympiaharderwijk.nl
SUMMARY:Wedstrijd springgroep jeugd (individueelspringen)
DESCRIPTION:
URL:https://olympiaharderwijk.nl/event/wedstrijd-individueelspringen-jeugd/
LOCATION:Nieuwleusen\, Nieuwleusen\, Nederland
CATEGORIES:Wedstrijden
END:VEVENT
BEGIN:VEVENT
DTSTART;VALUE=DATE:20250621
DTEND;VALUE=DATE:20250622
DTSTAMP:20260423T003457
CREATED:20250204T213231Z
LAST-MODIFIED:20250204T213231Z
UID:4292-1750464000-1750550399@olympiaharderwijk.nl
SUMMARY:Olympiadag 2025
DESCRIPTION:Op deze dag zullen de groepen gym\, turnen\, springen en freerunnen in de vorm van een wedstrijd of demo laten zien wat ze dit seizoen geleerd hebben. Het programma volgt nog\, maar zet de datum vast in de agenda en nodig vooral familie en vrienden uit! \nEen impressie van de vorige Olympiadag
URL:https://olympiaharderwijk.nl/event/olympiadag-2025/
LOCATION:Sporthal de Rumels\, Kleine Mheenweg 8A\, Hierden\, 3849 BM\, Nederland
CATEGORIES:Wedstrijden
END:VEVENT
BEGIN:VEVENT
DTSTART;VALUE=DATE:20260131
DTEND;VALUE=DATE:20260201
DTSTAMP:20260423T003457
CREATED:20260127T211421Z
LAST-MODIFIED:20260127T211937Z
UID:4659-1769817600-1769903999@olympiaharderwijk.nl
SUMMARY:Regionale wedstrijd (dans)
DESCRIPTION:
URL:https://olympiaharderwijk.nl/event/regionale-danswedstrijd/
LOCATION:De Sypel\, Parkweg 4\, Harderwijk\, 3842AD\, Nederland
CATEGORIES:Wedstrijden
END:VEVENT
BEGIN:VEVENT
DTSTART;VALUE=DATE:20260207
DTEND;VALUE=DATE:20260208
DTSTAMP:20260423T003457
CREATED:20260127T211200Z
LAST-MODIFIED:20260127T211450Z
UID:4654-1770422400-1770508799@olympiaharderwijk.nl
SUMMARY:Oost-Nederlandse Kampioenschappen (dans)
DESCRIPTION:
URL:https://olympiaharderwijk.nl/event/oost-nederlandse-kampioenschappen-dans/
LOCATION:Almelo
CATEGORIES:Wedstrijden
END:VEVENT
BEGIN:VEVENT
DTSTART;VALUE=DATE:20260307
DTEND;VALUE=DATE:20260308
DTSTAMP:20260423T003457
CREATED:20260127T211906Z
LAST-MODIFIED:20260127T212146Z
UID:4661-1772841600-1772927999@olympiaharderwijk.nl
SUMMARY:Tweede plaatsingswedstrijd (turnen dames)
DESCRIPTION:Teams middenbouw 5 en 6 en bovenbouw G;\nKlik hier voor het programma.
URL:https://olympiaharderwijk.nl/event/tweede-plaatsingswedstrijd-turnen-dames/
LOCATION:Nijkerk\, Watergoorweg 44\, Nijkerk
CATEGORIES:Wedstrijden
END:VEVENT
END:VCALENDAR