BEGIN:VCALENDAR
VERSION:2.0
PRODID:-//Gymnastiekvereniging Olympia Harderwijk - ECPv6.15.18//NONSGML v1.0//EN
CALSCALE:GREGORIAN
METHOD:PUBLISH
X-WR-CALNAME:Gymnastiekvereniging Olympia Harderwijk
X-ORIGINAL-URL:https://olympiaharderwijk.nl
X-WR-CALDESC:Evenementen voor Gymnastiekvereniging Olympia Harderwijk
REFRESH-INTERVAL;VALUE=DURATION:PT1H
X-Robots-Tag:noindex
X-PUBLISHED-TTL:PT1H
BEGIN:VTIMEZONE
TZID:Europe/Amsterdam
BEGIN:DAYLIGHT
TZOFFSETFROM:+0100
TZOFFSETTO:+0200
TZNAME:CEST
DTSTART:20220327T010000
END:DAYLIGHT
BEGIN:STANDARD
TZOFFSETFROM:+0200
TZOFFSETTO:+0100
TZNAME:CET
DTSTART:20221030T010000
END:STANDARD
BEGIN:DAYLIGHT
TZOFFSETFROM:+0100
TZOFFSETTO:+0200
TZNAME:CEST
DTSTART:20230326T010000
END:DAYLIGHT
BEGIN:STANDARD
TZOFFSETFROM:+0200
TZOFFSETTO:+0100
TZNAME:CET
DTSTART:20231029T010000
END:STANDARD
BEGIN:DAYLIGHT
TZOFFSETFROM:+0100
TZOFFSETTO:+0200
TZNAME:CEST
DTSTART:20240331T010000
END:DAYLIGHT
BEGIN:STANDARD
TZOFFSETFROM:+0200
TZOFFSETTO:+0100
TZNAME:CET
DTSTART:20241027T010000
END:STANDARD
BEGIN:DAYLIGHT
TZOFFSETFROM:+0100
TZOFFSETTO:+0200
TZNAME:CEST
DTSTART:20250330T010000
END:DAYLIGHT
BEGIN:STANDARD
TZOFFSETFROM:+0200
TZOFFSETTO:+0100
TZNAME:CET
DTSTART:20251026T010000
END:STANDARD
BEGIN:DAYLIGHT
TZOFFSETFROM:+0100
TZOFFSETTO:+0200
TZNAME:CEST
DTSTART:20260329T010000
END:DAYLIGHT
BEGIN:STANDARD
TZOFFSETFROM:+0200
TZOFFSETTO:+0100
TZNAME:CET
DTSTART:20261025T010000
END:STANDARD
END:VTIMEZONE
BEGIN:VEVENT
DTSTART;VALUE=DATE:20250208
DTEND;VALUE=DATE:20250209
DTSTAMP:20260420T185851
CREATED:20241017T121146Z
LAST-MODIFIED:20250204T212517Z
UID:4066-1738972800-1739059199@olympiaharderwijk.nl
SUMMARY:Plaatsingswedstrijd turnselectie dames: MB niveau 5 en 6 en BB supplement G
DESCRIPTION:Tweede plaatsingswedstrijd turnselectie dames\nMiddenbouw niveau 5 en 6 en bovenbouw supplement G
URL:https://olympiaharderwijk.nl/event/plaatsingswedstrijd-turnen-dames-mb-niveau-5-en-6-en-bb-supplement-g-2/
LOCATION:Sporthal de Rumels\, Kleine Mheenweg 8A\, Hierden\, 3849 BM\, Nederland
CATEGORIES:Wedstrijden
END:VEVENT
BEGIN:VEVENT
DTSTART;VALUE=DATE:20250201
DTEND;VALUE=DATE:20250202
DTSTAMP:20260420T185851
CREATED:20241017T120856Z
LAST-MODIFIED:20241017T120905Z
UID:4062-1738368000-1738454399@olympiaharderwijk.nl
SUMMARY:Plaatsingswedstrijd turnen dames: MB niveau 7 en BB supplement H
DESCRIPTION:Tweede plaatsingswedstrijd turnen dames (B-selectie) \nMiddenbouw niveau 7\nTeam 1: Tess\, Fayenne\, Vajen\, Charlize\nTeam 2: Norah\, Mijke\, Mayra\, Anneloes \nBovenbouw supplement H\nTeam 1: Carice\, Marit\, Meander\, Tamar\, Ayla\, Olivia
URL:https://olympiaharderwijk.nl/event/plaatsingswedstrijd-turnen-dames-mb-niveau-7-en-bb-supplement-h-2/
LOCATION:De Kamphal\, Heikamp 2\, Wezep\, 8091 RC\, Nederland
CATEGORIES:Wedstrijden
END:VEVENT
BEGIN:VEVENT
DTSTART;VALUE=DATE:20250125
DTEND;VALUE=DATE:20250126
DTSTAMP:20260420T185851
CREATED:20241003T203651Z
LAST-MODIFIED:20241003T203651Z
UID:3911-1737763200-1737849599@olympiaharderwijk.nl
SUMMARY:Wedstrijd springgroep (clubteams)
DESCRIPTION:
URL:https://olympiaharderwijk.nl/event/wedstrijd-springgroep-clubteams/
LOCATION:Ommen\, Ommen\, Nederland
CATEGORIES:Wedstrijden
END:VEVENT
BEGIN:VEVENT
DTSTART;VALUE=DATE:20250111
DTEND;VALUE=DATE:20250112
DTSTAMP:20260420T185851
CREATED:20241017T114735Z
LAST-MODIFIED:20241017T115120Z
UID:4047-1736553600-1736639999@olympiaharderwijk.nl
SUMMARY:Plaatsingswedstrijd turnen dames: BB supplement F
DESCRIPTION:Eerste plaatsingswedstrijd turnen dames (A-selectie: Lobke)
URL:https://olympiaharderwijk.nl/event/plaatsingswedstrijd-turnen-dames-bb-supplement-f/
LOCATION:Sporthal Puttereng\, Engweg 6\, Putten\, 3882 AL\, Nederland
CATEGORIES:Wedstrijden
END:VEVENT
BEGIN:VEVENT
DTSTART;TZID=Europe/Amsterdam:20250104T140000
DTEND;TZID=Europe/Amsterdam:20250104T160000
DTSTAMP:20260420T185851
CREATED:20241221T201948Z
LAST-MODIFIED:20241221T203102Z
UID:4200-1735999200-1736006400@olympiaharderwijk.nl
SUMMARY:Turninstuif voor jongens!
DESCRIPTION:Op zaterdag 4 januari 2025 organiseren we een turninstuif voor jongens. Alle jongens die kennis willen maken met turnen zijn van harte welkom in de gymzaal aan het Biezenplein\, van 14:00 tot 16:00 uur. Toegang is gratis en aanmelden is niet nodig. Kom langs (in sportieve kleding is handig) en ervaar of turnen wat voor je is!
URL:https://olympiaharderwijk.nl/event/turninstuif-jongens/
LOCATION:Gymzaal Biezenplein\, Biezenplein 3-4\, Harderwijk\, Nederland
CATEGORIES:Instuif
END:VEVENT
BEGIN:VEVENT
DTSTART;VALUE=DATE:20241223
DTEND;VALUE=DATE:20250106
DTSTAMP:20260420T185851
CREATED:20241017T115405Z
LAST-MODIFIED:20241017T115405Z
UID:4054-1734912000-1736121599@olympiaharderwijk.nl
SUMMARY:Kerstvakantie: geen les
DESCRIPTION:I.v.m. de kerstvakantie zijn er van 23 december t/m 5 januari geen lessen.
URL:https://olympiaharderwijk.nl/event/kerstvakantie-geen-les-2/
CATEGORIES:Geen les
END:VEVENT
BEGIN:VEVENT
DTSTART;VALUE=DATE:20241207
DTEND;VALUE=DATE:20241208
DTSTAMP:20260420T185851
CREATED:20241017T114437Z
LAST-MODIFIED:20241017T114437Z
UID:4044-1733529600-1733615999@olympiaharderwijk.nl
SUMMARY:Plaatsingswedstrijd turnen dames: MB niveau 5 en 6 en BB supplement G
DESCRIPTION:Eerste plaatsingswedstrijd turnen dames (A- en B-selectie) \nMiddenbouw niveau 5\nTeam 1: Anna\, Sara Noor\, Dani\, Esmee\, Miya\, Lindy\nTeam 2: Maureen\, Esther\, Femke\, Isabel\, Marley\, Alissa \nMiddenbouw niveau 6\nTeam 1: Anna\, Elena\, Floor\, Marit\, Nora\, Tamar \nBovenbouw supplement G\nTeam 1: Veerle\, Pilar\, Kaylynn\, Liv\, Jara
URL:https://olympiaharderwijk.nl/event/plaatsingswedstrijd-turnen-dames-mb-niveau-5-en-6-en-bb-supplement-g/
LOCATION:Turnhal Beekbergen\, Lage Bergweg 10\, Beekbergen\, 7361 GT\, Nederland
CATEGORIES:Wedstrijden
END:VEVENT
BEGIN:VEVENT
DTSTART;TZID=Europe/Amsterdam:20241206T183000
DTEND;TZID=Europe/Amsterdam:20241206T210000
DTSTAMP:20260420T185851
CREATED:20241003T204446Z
LAST-MODIFIED:20241003T204957Z
UID:3919-1733509800-1733518800@olympiaharderwijk.nl
SUMMARY:A Touch of Magic 2024 (grootste gymsportspektakel van de regio)
DESCRIPTION:Van de organisatie: \n“Voorafgaand aan de landelijke- en regionale [heren]turnwedstrijden op 7 en 8 december staat op vrijdagavond 6 december de 2e editie van A Touch of Magic op de planning\, locatie Landstede Sportcentrum. Kaarten zijn vanaf nu te koop via: https://store.ticketing.cm.com/atom2024/ 🎫 \nDe eerste namen van topsporters die mee doen: TURNERS VAN DE TURNACADEMIE\, Rope-skipper GERALDO ALKEN met een Guinness Book of World Records vermelding\, B-Boy DAVID KITOYAN (wereldkampioen Breakdance U16) en Team NL turner en Olympisch meerkampfinalist CASIMIR SCHMIDT. Allen zijn van de partij op vrijdag 6 december in het ‘Theater van de Sport’ in Zwolle. 🤫😶🤐 \nVolg het Instagram account voor meer aankondigen en info de komende weken: @atouchofmagic_2024 \nOok nieuw dit jaar: voorafgaand aan de show richten wij\, samen met Airtrack Factory en Craft Sportswear\, een Beweegplein in. Daar kunnen kinderen zich voor de tijd in parcours-vorm nog even zelf uitleven. Deuren gaan om 18.30 uur open.”
URL:https://olympiaharderwijk.nl/event/a-touch-of-magic-2024-grootste-gymsportspektakel-van-de-regio/
LOCATION:Zwolle\, Hogeland 10\, Zwolle
END:VEVENT
BEGIN:VEVENT
DTSTART;VALUE=DATE:20241130
DTEND;VALUE=DATE:20241201
DTSTAMP:20260420T185851
CREATED:20241017T114019Z
LAST-MODIFIED:20241017T115934Z
UID:4041-1732924800-1733011199@olympiaharderwijk.nl
SUMMARY:Plaatsingswedstrijd turnen dames: MB niveau 7 en BB supplement H
DESCRIPTION:Eerste plaatsingswedstrijd turnen dames (B-selectie) \nMiddenbouw niveau 7\nTeam 1: Tess\, Fayenne\, Vajen\, Charlize\nTeam 2: Norah\, Mijke\, Mayra\, Anneloes \nBovenbouw supplement H\nTeam 1: Carice\, Marit\, Meander\, Tamar\, Ayla\, Olivia
URL:https://olympiaharderwijk.nl/event/plaatsingswedstrijd-turnen-dames-mb-niveau-7-en-bb-supplement-h/
LOCATION:Sporthal Puttereng\, Engweg 6\, Putten\, 3882 AL\, Nederland
CATEGORIES:Wedstrijden
END:VEVENT
BEGIN:VEVENT
DTSTART;VALUE=DATE:20241123
DTEND;VALUE=DATE:20241124
DTSTAMP:20260420T185851
CREATED:20241017T115013Z
LAST-MODIFIED:20241017T115831Z
UID:4049-1732320000-1732406399@olympiaharderwijk.nl
SUMMARY:Plaatsingswedstrijd turnen dames: BB supplement E
DESCRIPTION:Eerste plaatsingswedstrijd turnen dames (A-selectie: Anniek\, Karina)
URL:https://olympiaharderwijk.nl/event/plaatsingswedstrijd-turnen-dames-bb-supplement-e/
LOCATION:Turn- & sportcentrum Montferland\, Luijnhorststraat 10b\, Didam\, 6941 RC
CATEGORIES:Wedstrijden
END:VEVENT
BEGIN:VEVENT
DTSTART;VALUE=DATE:20241104
DTEND;VALUE=DATE:20241105
DTSTAMP:20260420T185851
CREATED:20241017T120536Z
LAST-MODIFIED:20241017T120603Z
UID:4059-1730678400-1730764799@olympiaharderwijk.nl
SUMMARY:Einde verkoopperiode Grote Clubactie
DESCRIPTION:De Grote Clubactie loopt tot 4 november; er kunnen tot 4 november 23:59 online loten verkocht worden.
URL:https://olympiaharderwijk.nl/event/einde-verkoopperiode-grote-clubactie/
CATEGORIES:Grote Clubactie
END:VEVENT
BEGIN:VEVENT
DTSTART;VALUE=DATE:20241027
DTEND;VALUE=DATE:20241104
DTSTAMP:20260420T185851
CREATED:20241003T203949Z
LAST-MODIFIED:20241003T203949Z
UID:3917-1729987200-1730678399@olympiaharderwijk.nl
SUMMARY:Herfstvakantie: geen les
DESCRIPTION:I.v.m. de herfstvakantie zijn er van 27 oktober t/m 3 november geen lessen.
URL:https://olympiaharderwijk.nl/event/herfstvakantie-geen-les-2/
CATEGORIES:Geen les
END:VEVENT
BEGIN:VEVENT
DTSTART;VALUE=DATE:20241026
DTEND;VALUE=DATE:20241027
DTSTAMP:20260420T185851
CREATED:20240701T135404Z
LAST-MODIFIED:20240701T140632Z
UID:3580-1729900800-1729987199@olympiaharderwijk.nl
SUMMARY:Wedstrijd springgroep jeugd (groepsspringen)
DESCRIPTION:
URL:https://olympiaharderwijk.nl/event/wedstrijd-groepsspringen-jeugd/
LOCATION:Markelo\, Stationsstraat 30\, Markelo\, Nederland
CATEGORIES:Wedstrijden
END:VEVENT
BEGIN:VEVENT
DTSTART;VALUE=DATE:20241021
DTEND;VALUE=DATE:20241027
DTSTAMP:20260420T185851
CREATED:20241017T115702Z
LAST-MODIFIED:20241017T120632Z
UID:4056-1729468800-1729987199@olympiaharderwijk.nl
SUMMARY:Verkoopboekjes Grote Clubactie inleveren
DESCRIPTION:Dit is de laatste week dat de verkoopboekjes van de Grote Clubactie ingeleverd kunnen worden. Lever de boekjes in bij de eigen train(st)er.\nLet op: alleen online verkocht en het verkoopboekje niet gebruikt? Dan hoeft het verkoopboekje niet ingeleverd te worden. \nEr kunnen tot 4 november nog online loten verkocht worden.
URL:https://olympiaharderwijk.nl/event/verkoopboekjes-grote-clubactie-inleveren/
CATEGORIES:Grote Clubactie
END:VEVENT
BEGIN:VEVENT
DTSTART;TZID=Europe/Amsterdam:20241012T150000
DTEND;TZID=Europe/Amsterdam:20241012T180000
DTSTAMP:20260420T185851
CREATED:20240701T135231Z
LAST-MODIFIED:20241003T205138Z
UID:3576-1728745200-1728756000@olympiaharderwijk.nl
SUMMARY:Wedstrijd springgroep junioren (groepsspringen)
DESCRIPTION:
URL:https://olympiaharderwijk.nl/event/wedstrijd-groepsspringen-junioren/
LOCATION:Markelo\, Stationsstraat 30\, Markelo\, Nederland
CATEGORIES:Wedstrijden
END:VEVENT
BEGIN:VEVENT
DTSTART;VALUE=DATE:20240708
DTEND;VALUE=DATE:20240902
DTSTAMP:20260420T185851
CREATED:20240701T124045Z
LAST-MODIFIED:20240701T124114Z
UID:3544-1720396800-1725235199@olympiaharderwijk.nl
SUMMARY:Zomervakantie: geen les
DESCRIPTION:I.v.m. de zomervakantie zijn er van 8 juli t/m 1 september geen lessen. We zien jullie graag het nieuwe seizoen weer in de zaal!
URL:https://olympiaharderwijk.nl/event/zomervakantie-geen-les/
CATEGORIES:Geen les
END:VEVENT
BEGIN:VEVENT
DTSTART;VALUE=DATE:20240615
DTEND;VALUE=DATE:20240616
DTSTAMP:20260420T185851
CREATED:20240530T125832Z
LAST-MODIFIED:20240530T131436Z
UID:3500-1718409600-1718495999@olympiaharderwijk.nl
SUMMARY:Olympiadag 2024
DESCRIPTION:Op zaterdag 15 juni is het zover: de Olympiadag van 2024! Op deze dag zullen de leden van de gym\, turnen\, springen en freerunnen aan vrienden en familie laten zien wat ze dit seizoen geleerd hebben. Bent u er ook bij?
URL:https://olympiaharderwijk.nl/event/olympiadag-2024/
LOCATION:De Sypel\, Parkweg 4\, Harderwijk\, 3842AD\, Nederland
END:VEVENT
BEGIN:VEVENT
DTSTART;VALUE=DATE:20240219
DTEND;VALUE=DATE:20240226
DTSTAMP:20260420T185851
CREATED:20230808T180511Z
LAST-MODIFIED:20230808T180511Z
UID:3064-1708300800-1708905599@olympiaharderwijk.nl
SUMMARY:Voorjaarsvakantie: geen les
DESCRIPTION:I.v.m. de voorjaarsvakantie is er deze week geen les.
URL:https://olympiaharderwijk.nl/event/voorjaarsvakantie-geen-les/
CATEGORIES:Geen les
END:VEVENT
BEGIN:VEVENT
DTSTART;TZID=Europe/Amsterdam:20240127T133000
DTEND;TZID=Europe/Amsterdam:20240127T170000
DTSTAMP:20260420T185851
CREATED:20231112T182451Z
LAST-MODIFIED:20231112T183211Z
UID:3220-1706362200-1706374800@olympiaharderwijk.nl
SUMMARY:Diploma turnen
DESCRIPTION:Recreatieve wedstrijd in gymzaal Biezenplein voor de meisjes van de gymnastiek. \nVan 13:30 tot 15:15: Vliepad lesgroep 17.00-18.00 en Constantijn Huygenslaan lesgroep 17.30-18.30.\nVan 15:05 tot 16:50: Vliepad lesgroep 18.00-19.00 en Constantijn Huygenslaan lesgroep 18.30-19.30.
URL:https://olympiaharderwijk.nl/event/diploma-turnen/
LOCATION:Gymzaal Biezenplein\, Biezenplein 3-4\, Harderwijk\, Nederland
ORGANIZER;CN="Carmen de Greef":MAILTO:carmendegreef@outlook.com
END:VEVENT
BEGIN:VEVENT
DTSTART;VALUE=DATE:20231225
DTEND;VALUE=DATE:20240108
DTSTAMP:20260420T185851
CREATED:20230808T133235Z
LAST-MODIFIED:20230808T180600Z
UID:3046-1703462400-1704671999@olympiaharderwijk.nl
SUMMARY:Kerstvakantie: geen les
DESCRIPTION:I.v.m. de kerstvakantie is er deze weken geen les.
URL:https://olympiaharderwijk.nl/event/kerstvakantie-geen-les/
CATEGORIES:Geen les
END:VEVENT
BEGIN:VEVENT
DTSTART;VALUE=DATE:20231205
DTEND;VALUE=DATE:20231206
DTSTAMP:20260420T185851
CREATED:20230820T201135Z
LAST-MODIFIED:20230820T201228Z
UID:3109-1701734400-1701820799@olympiaharderwijk.nl
SUMMARY:Sinterklaas: geen les
DESCRIPTION:I.v.m. Sinterklaasavond is er geen les vandaag.
URL:https://olympiaharderwijk.nl/event/sinterklaas/
END:VEVENT
BEGIN:VEVENT
DTSTART;VALUE=DATE:20231125
DTEND;VALUE=DATE:20231126
DTSTAMP:20260420T185851
CREATED:20231015T111004Z
LAST-MODIFIED:20231015T111048Z
UID:3206-1700870400-1700956799@olympiaharderwijk.nl
SUMMARY:Wedstrijd turnen heren
DESCRIPTION:Teamwedstrijd najaarscompetitie te Putten. Tijd en locatie: Dutch Gymnastics – KNGU.
URL:https://olympiaharderwijk.nl/event/wedstrijd-turnen-heren-2/
CATEGORIES:Wedstrijden
END:VEVENT
BEGIN:VEVENT
DTSTART;VALUE=DATE:20231104
DTEND;VALUE=DATE:20231105
DTSTAMP:20260420T185851
CREATED:20231015T110746Z
LAST-MODIFIED:20231015T110746Z
UID:3203-1699056000-1699142399@olympiaharderwijk.nl
SUMMARY:Wedstrijd turnen heren
DESCRIPTION:Teamwedstrijd najaarscompetitie te Twello. Tijd en locatie: Dutch Gymnastics – KNGU.
URL:https://olympiaharderwijk.nl/event/wedstrijd-turnen-heren/
CATEGORIES:Wedstrijden
END:VEVENT
BEGIN:VEVENT
DTSTART;VALUE=DATE:20231104
DTEND;VALUE=DATE:20231105
DTSTAMP:20260420T185851
CREATED:20230912T143425Z
LAST-MODIFIED:20230912T143425Z
UID:3133-1699056000-1699142399@olympiaharderwijk.nl
SUMMARY:Wedstrijd twirl
DESCRIPTION:Bondskampioenschappen twirl ’t Harde.
URL:https://olympiaharderwijk.nl/event/wedstrijd-twirl-3/
CATEGORIES:Wedstrijden
END:VEVENT
BEGIN:VEVENT
DTSTART;VALUE=DATE:20231101
DTEND;VALUE=DATE:20231102
DTSTAMP:20260420T185851
CREATED:20230925T143705Z
LAST-MODIFIED:20230925T143705Z
UID:3140-1698796800-1698883199@olympiaharderwijk.nl
SUMMARY:Deadline inleveren verkoopboekjes Grote Clubactie
DESCRIPTION:Zorg dat uiterlijk vandaag de verkoopboekjes bij de train(st)er zijn ingeleverd. Alleen online verkocht? Dan hoeft het boekje niet ingeleverd te worden.
URL:https://olympiaharderwijk.nl/event/deadline-inleveren-verkoopboekjes-grote-clubactie/
CATEGORIES:Grote Clubactie
END:VEVENT
BEGIN:VEVENT
DTSTART;VALUE=DATE:20231028
DTEND;VALUE=DATE:20231029
DTSTAMP:20260420T185851
CREATED:20230808T132847Z
LAST-MODIFIED:20231015T110445Z
UID:3042-1698451200-1698537599@olympiaharderwijk.nl
SUMMARY:Wedstrijd springgroep jeugd
DESCRIPTION:Groepsspringen jeugd te Markelo. Tijd en locatie: Dutch Gymnastics – KNGU.
URL:https://olympiaharderwijk.nl/event/groepsspringen-jeugd/
CATEGORIES:Wedstrijden
END:VEVENT
BEGIN:VEVENT
DTSTART;VALUE=DATE:20231021
DTEND;VALUE=DATE:20231022
DTSTAMP:20260420T185851
CREATED:20230912T143254Z
LAST-MODIFIED:20230912T143254Z
UID:3131-1697846400-1697932799@olympiaharderwijk.nl
SUMMARY:Wedstrijd twirl
DESCRIPTION:Twirl te Apeldoorn.
URL:https://olympiaharderwijk.nl/event/wedstrijd-twirl-2/
CATEGORIES:Wedstrijden
END:VEVENT
BEGIN:VEVENT
DTSTART;VALUE=DATE:20231016
DTEND;VALUE=DATE:20231023
DTSTAMP:20260420T185851
CREATED:20230808T113732Z
LAST-MODIFIED:20230808T180642Z
UID:3026-1697414400-1698019199@olympiaharderwijk.nl
SUMMARY:Herfstvakantie: geen les
DESCRIPTION:I.v.m. de herfstvakantie is er deze week geen les.
URL:https://olympiaharderwijk.nl/event/herfstvakantie-geen-les/
CATEGORIES:Geen les
END:VEVENT
BEGIN:VEVENT
DTSTART;VALUE=DATE:20231014
DTEND;VALUE=DATE:20231015
DTSTAMP:20260420T185851
CREATED:20230808T132620Z
LAST-MODIFIED:20230808T172426Z
UID:3033-1697241600-1697327999@olympiaharderwijk.nl
SUMMARY:Wedstrijd springgroep junioren
DESCRIPTION:Groepsspringen junioren te Markelo\, exacte tijd en locatie volgt nog.
URL:https://olympiaharderwijk.nl/event/groepsspringen-junioren/
CATEGORIES:Wedstrijden
END:VEVENT
BEGIN:VEVENT
DTSTART;VALUE=DATE:20230916
DTEND;VALUE=DATE:20230917
DTSTAMP:20260420T185851
CREATED:20230912T143052Z
LAST-MODIFIED:20230912T143153Z
UID:3127-1694822400-1694908799@olympiaharderwijk.nl
SUMMARY:Wedstrijd twirl
DESCRIPTION:Twirl te Wezep.
URL:https://olympiaharderwijk.nl/event/wedstrijd-twirl/
CATEGORIES:Wedstrijden
END:VEVENT
END:VCALENDAR