BEGIN:VCALENDAR
VERSION:2.0
PRODID:-//Gymnastiekvereniging Olympia Harderwijk - ECPv6.15.18//NONSGML v1.0//EN
CALSCALE:GREGORIAN
METHOD:PUBLISH
X-WR-CALNAME:Gymnastiekvereniging Olympia Harderwijk
X-ORIGINAL-URL:https://olympiaharderwijk.nl
X-WR-CALDESC:Evenementen voor Gymnastiekvereniging Olympia Harderwijk
REFRESH-INTERVAL;VALUE=DURATION:PT1H
X-Robots-Tag:noindex
X-PUBLISHED-TTL:PT1H
BEGIN:VTIMEZONE
TZID:Europe/Amsterdam
BEGIN:DAYLIGHT
TZOFFSETFROM:+0100
TZOFFSETTO:+0200
TZNAME:CEST
DTSTART:20220327T010000
END:DAYLIGHT
BEGIN:STANDARD
TZOFFSETFROM:+0200
TZOFFSETTO:+0100
TZNAME:CET
DTSTART:20221030T010000
END:STANDARD
BEGIN:DAYLIGHT
TZOFFSETFROM:+0100
TZOFFSETTO:+0200
TZNAME:CEST
DTSTART:20230326T010000
END:DAYLIGHT
BEGIN:STANDARD
TZOFFSETFROM:+0200
TZOFFSETTO:+0100
TZNAME:CET
DTSTART:20231029T010000
END:STANDARD
BEGIN:DAYLIGHT
TZOFFSETFROM:+0100
TZOFFSETTO:+0200
TZNAME:CEST
DTSTART:20240331T010000
END:DAYLIGHT
BEGIN:STANDARD
TZOFFSETFROM:+0200
TZOFFSETTO:+0100
TZNAME:CET
DTSTART:20241027T010000
END:STANDARD
END:VTIMEZONE
BEGIN:VEVENT
DTSTART;VALUE=DATE:20230821
DTEND;VALUE=DATE:20230822
DTSTAMP:20260421T033239
CREATED:20230808T180135Z
LAST-MODIFIED:20230808T180135Z
UID:3062-1692576000-1692662399@olympiaharderwijk.nl
SUMMARY:Start nieuw seizoen
DESCRIPTION:Vanaf deze week starten de meeste lessen weer\, tenzij anders door de leiding aangegeven.
URL:https://olympiaharderwijk.nl/event/start-nieuw-seizoen/
END:VEVENT
END:VCALENDAR