BEGIN:VCALENDAR
VERSION:2.0
PRODID:-//Gymnastiekvereniging Olympia Harderwijk - ECPv6.15.18//NONSGML v1.0//EN
CALSCALE:GREGORIAN
METHOD:PUBLISH
X-ORIGINAL-URL:https://olympiaharderwijk.nl
X-WR-CALDESC:Evenementen voor Gymnastiekvereniging Olympia Harderwijk
REFRESH-INTERVAL;VALUE=DURATION:PT1H
X-Robots-Tag:noindex
X-PUBLISHED-TTL:PT1H
BEGIN:VTIMEZONE
TZID:Europe/Amsterdam
BEGIN:DAYLIGHT
TZOFFSETFROM:+0100
TZOFFSETTO:+0200
TZNAME:CEST
DTSTART:20250330T010000
END:DAYLIGHT
BEGIN:STANDARD
TZOFFSETFROM:+0200
TZOFFSETTO:+0100
TZNAME:CET
DTSTART:20251026T010000
END:STANDARD
BEGIN:DAYLIGHT
TZOFFSETFROM:+0100
TZOFFSETTO:+0200
TZNAME:CEST
DTSTART:20260329T010000
END:DAYLIGHT
BEGIN:STANDARD
TZOFFSETFROM:+0200
TZOFFSETTO:+0100
TZNAME:CET
DTSTART:20261025T010000
END:STANDARD
BEGIN:DAYLIGHT
TZOFFSETFROM:+0100
TZOFFSETTO:+0200
TZNAME:CEST
DTSTART:20270328T010000
END:DAYLIGHT
BEGIN:STANDARD
TZOFFSETFROM:+0200
TZOFFSETTO:+0100
TZNAME:CET
DTSTART:20271031T010000
END:STANDARD
END:VTIMEZONE
BEGIN:VEVENT
DTSTART;VALUE=DATE:20260207
DTEND;VALUE=DATE:20260208
DTSTAMP:20260420T093649
CREATED:20260127T211200Z
LAST-MODIFIED:20260127T211450Z
UID:4654-1770422400-1770508799@olympiaharderwijk.nl
SUMMARY:Oost-Nederlandse Kampioenschappen (dans)
DESCRIPTION:
URL:https://olympiaharderwijk.nl/event/oost-nederlandse-kampioenschappen-dans/
LOCATION:Almelo
CATEGORIES:Wedstrijden
END:VEVENT
BEGIN:VEVENT
DTSTART;VALUE=DATE:20260131
DTEND;VALUE=DATE:20260201
DTSTAMP:20260420T093649
CREATED:20260127T211421Z
LAST-MODIFIED:20260127T211937Z
UID:4659-1769817600-1769903999@olympiaharderwijk.nl
SUMMARY:Regionale wedstrijd (dans)
DESCRIPTION:
URL:https://olympiaharderwijk.nl/event/regionale-danswedstrijd/
LOCATION:De Sypel\, Parkweg 4\, Harderwijk\, 3842AD\, Nederland
CATEGORIES:Wedstrijden
END:VEVENT
END:VCALENDAR